BEGIN:VCALENDAR
VERSION:2.0
PRODID:-//Squarespace Inc/Squarespace 6//v6//EN
BEGIN:VEVENT
UID:56d754d6f8baf3e77eb1fd82@squarespace.com
DTSTAMP:20160421T202140Z
DTSTART:20161004T210000Z
DTEND:20161004T220000Z
SUMMARY:Galesburg Unit
GEO:40.951079;-90.361045
LOCATION:American Legion\, 571 E. North St.\, Galesburg\, IL\, 61401\, Unit
 ed States
END:VEVENT
END:VCALENDAR
