BEGIN:VCALENDAR
VERSION:2.0
PRODID:-//Squarespace Inc/Squarespace 6//v6//EN
BEGIN:VEVENT
UID:56d894bd746fb9333bd009f9@squarespace.com
DTSTAMP:20160303T215204Z
DTSTART:20161031T110000Z
DTEND:20161031T120000Z
SUMMARY:Halloween
END:VEVENT
END:VCALENDAR
