BEGIN:VCALENDAR
VERSION:2.0
PRODID:-//Squarespace Inc/Squarespace 6//v6//EN
BEGIN:VEVENT
UID:56d752a307eaa0500958ca11@squarespace.com
DTSTAMP:20160302T205408Z
DTSTART:20161022T130000Z
DTEND:20161022T160000Z
SUMMARY:Executive Board
GEO:39.743431;-89.712268
LOCATION:IBEW Local 51\, 3171 Greenhead Drive\, Springfield\, IL\, 62711\, 
 United States
END:VEVENT
END:VCALENDAR
