BEGIN:VCALENDAR
VERSION:2.0
PRODID:-//Squarespace Inc/Squarespace 6//v6//EN
BEGIN:VEVENT
UID:56d8973986db43059047c5c4@squarespace.com
DTSTAMP:20160303T195856Z
DTSTART:20161014T233000Z
DTEND:20161015T003000Z
SUMMARY:Construction Unit
GEO:39.743431;-89.712268
LOCATION:IBEW Local 51\, 3171 Greenhead Drive\, Springfield\, IL\, 62711\, 
 United States
END:VEVENT
END:VCALENDAR
