BEGIN:VCALENDAR
VERSION:2.0
PRODID:-//Squarespace Inc/Squarespace 6//v6//EN
BEGIN:VEVENT
UID:56d896f2ab48de3fe2ad480d@squarespace.com
DTSTAMP:20160303T195731Z
DTSTART:20161013T213000Z
DTEND:20161013T223000Z
SUMMARY:Peoria Unit
GEO:40.739454;-89.570558
LOCATION:VFW 2602\, 1505 East Lake Avenue\, Peoria Heights\, IL\, 61616\, U
 nited States
END:VEVENT
END:VCALENDAR
