BEGIN:VCALENDAR
VERSION:2.0
PRODID:-//Squarespace Inc/Squarespace 6//v6//EN
BEGIN:VEVENT
UID:56d8968ec6fc089ac061e8bd@squarespace.com
DTSTAMP:20160303T195528Z
DTSTART:20161013T200000Z
DTEND:20161013T210000Z
SUMMARY:Decatur Unit
GEO:39.884232;-88.9355
LOCATION:IBEW Local 146\, 3390 North Woodford Street\, Decatur\, IL\, 62526
 \, United States
END:VEVENT
END:VCALENDAR
