BEGIN:VCALENDAR
VERSION:2.0
PRODID:-//Squarespace Inc/Squarespace 6//v6//EN
BEGIN:VEVENT
UID:56d896561d07c0d62d98e16b@squarespace.com
DTSTAMP:20160303T195439Z
DTSTART:20161012T233000Z
DTEND:20161013T003000Z
SUMMARY:Jacksonville Unit
GEO:39.734909;-90.22799
LOCATION:AmVets Post 100\, 210 East Court Street\, Jacksonville\, IL\, 6265
 0\, United States
END:VEVENT
END:VCALENDAR
