BEGIN:VCALENDAR
VERSION:2.0
PRODID:-//Squarespace Inc/Squarespace 6//v6//EN
BEGIN:VEVENT
UID:56d75336e707eb1dd387207a@squarespace.com
DTSTAMP:20160302T205654Z
DTSTART:20161010T110000Z
DTEND:20161010T120000Z
SUMMARY:Columbus Day Observed
END:VEVENT
END:VCALENDAR
