BEGIN:VCALENDAR
VERSION:2.0
PRODID:-//Squarespace Inc/Squarespace 6//v6//EN
BEGIN:VEVENT
UID:56d751c34d088ebd01b97d3f@squarespace.com
DTSTAMP:20160302T205007Z
DTSTART:20161001T110000Z
DTEND:20161001T120000Z
SUMMARY:FOURTH QUARTER UNION DUES
END:VEVENT
END:VCALENDAR
