BEGIN:VCALENDAR
VERSION:2.0
PRODID:-//Squarespace Inc/Squarespace 6//v6//EN
BEGIN:VEVENT
UID:54a6f17de4b037e9bac4a6ab@squarespace.com
DTSTAMP:20150102T192937Z
DTSTART:20160101T130000Z
DTEND:20160101T220000Z
SUMMARY:Office Closed - New Year's Day
END:VEVENT
END:VCALENDAR
