BEGIN:VCALENDAR
VERSION:2.0
PRODID:-//Squarespace Inc/Squarespace 6//v6//EN
BEGIN:VEVENT
UID:54a2ee9de4b083a5c4a6ef33@squarespace.com
DTSTAMP:20141230T182819Z
DTSTART:20150909T233000Z
DTEND:20150910T003000Z
SUMMARY:Jacksonville Unit
GEO:39.734908;-90.22799
LOCATION:AmVets Post 100\, 210 E. Court St.\, Jacksonville\, IL
END:VEVENT
END:VCALENDAR
