BEGIN:VCALENDAR
VERSION:2.0
PRODID:-//Squarespace Inc/Squarespace 6//v6//EN
BEGIN:VEVENT
UID:54a2ede7e4b04e50bec57106@squarespace.com
DTSTAMP:20141230T182524Z
DTSTART:20150908T213000Z
DTEND:20150908T223000Z
SUMMARY:Champaign Unit
GEO:29.645462;-95.227052
LOCATION:VFW Post 5520\, 609 Edgebrook Dr.\, Champaign IL
END:VEVENT
END:VCALENDAR
