BEGIN:VCALENDAR
VERSION:2.0
PRODID:-//Squarespace Inc/Squarespace 6//v6//EN
BEGIN:VEVENT
UID:54a2e964e4b0785c3e605913@squarespace.com
DTSTAMP:20141230T181513Z
DTSTART:20150907T120000Z
DTEND:20150907T210000Z
SUMMARY:Office Closed\, Labor Day
END:VEVENT
END:VCALENDAR
