BEGIN:VCALENDAR
VERSION:2.0
PRODID:-//Squarespace Inc/Squarespace 6//v6//EN
BEGIN:VEVENT
UID:54a2e8dfe4b0ddb80b8de90e@squarespace.com
DTSTAMP:20141230T180403Z
DTSTART:20150903T200000Z
DTEND:20150903T210000Z
SUMMARY:Wood River Unit
GEO:38.934723;-90.154596
LOCATION:IBEW Local 649\, 4051 Humbert Rd\, Alton\, IL\, 62002\, United Sta
 tes
END:VEVENT
END:VCALENDAR
