BEGIN:VCALENDAR
VERSION:2.0
PRODID:-//Squarespace Inc/Squarespace 6//v6//EN
BEGIN:VEVENT
UID:54a2f347e4b0b85b34583b59@squarespace.com
DTSTAMP:20141230T184807Z
DTSTART:20150923T040000Z
DTEND:20150924T030000Z
SUMMARY:Autumn Begins
END:VEVENT
END:VCALENDAR
