BEGIN:VCALENDAR
VERSION:2.0
PRODID:-//Squarespace Inc/Squarespace 6//v6//EN
BEGIN:VEVENT
UID:54a2e82de4b083bc4b8038fd@squarespace.com
DTSTAMP:20141230T180053Z
DTSTART:20150902T210000Z
DTEND:20150902T220000Z
SUMMARY:Lincoln Unit
GEO:40.143601;-89.34882
LOCATION:K. C. Hall\, 217 Limit St\, Lincoln\, IL\, 62656\, United States
END:VEVENT
END:VCALENDAR
