BEGIN:VCALENDAR
VERSION:2.0
PRODID:-//Squarespace Inc/Squarespace 6//v6//EN
BEGIN:VEVENT
UID:54a2e7f5e4b04e142c86a6ef@squarespace.com
DTSTAMP:20141230T180000Z
DTSTART:20150902T200000Z
DTEND:20150902T210000Z
SUMMARY:Clinton Unit
GEO:40.150385;-88.943822
LOCATION:Elks Lodge #785\, 1520 E. South St.\, Clinton\, IL
END:VEVENT
END:VCALENDAR
