BEGIN:VCALENDAR
VERSION:2.0
PRODID:-//Squarespace Inc/Squarespace 6//v6//EN
BEGIN:VEVENT
UID:54a2f15ae4b03e4bb7e58e41@squarespace.com
DTSTAMP:20141230T190435Z
DTSTART:20150912T160000Z
DTEND:20150912T210000Z
SUMMARY:IBEW 51 Annual Picnic
GEO:39.743448;-89.712231
LOCATION:IBEW Local 51\, 3171 Greenhead Dr\, Springfield\, IL\, 62711\, Uni
 ted States
END:VEVENT
END:VCALENDAR
