BEGIN:VCALENDAR
VERSION:2.0
PRODID:-//Squarespace Inc/Squarespace 6//v6//EN
BEGIN:VEVENT
UID:54a2eff0e4b047a40011f6d5@squarespace.com
DTSTAMP:20141230T183514Z
DTSTART:20150911T233000Z
DTEND:20150912T003000Z
SUMMARY:Construction
GEO:39.743448;-89.712231
LOCATION:IBEW Local 51 Hall\, 3171 Greenhead Dr\, Springfield\, IL\, 62711\
 , United States
END:VEVENT
END:VCALENDAR
