BEGIN:VCALENDAR
VERSION:2.0
PRODID:-//Squarespace Inc/Squarespace 6//v6//EN
BEGIN:VEVENT
UID:54a2ef75e4b073daddbb894e@squarespace.com
DTSTAMP:20141230T183251Z
DTSTART:20150910T213000Z
DTEND:20150910T223000Z
SUMMARY:Peoria Unit
GEO:40.739454;-89.570558
LOCATION:VFW 2602\, 1505 E. Lake St.\, Peoria Heights\, IL
END:VEVENT
END:VCALENDAR
