BEGIN:VCALENDAR
VERSION:2.0
PRODID:-//Squarespace Inc/Squarespace 6//v6//EN
BEGIN:VEVENT
UID:54a2e78ae4b0f0382f3813ee@squarespace.com
DTSTAMP:20141230T175810Z
DTSTART:20150901T200000Z
DTEND:20150901T210000Z
SUMMARY:Havana Unit
GEO:41.603289;-87.518429
LOCATION:VFW\, 425 W. Ave\, Havana\, IL
END:VEVENT
END:VCALENDAR
