BEGIN:VCALENDAR
VERSION:2.0
PRODID:-//Squarespace Inc/Squarespace 6//v6//EN
BEGIN:VEVENT
UID:54a2e22be4b005eaeb2663ac@squarespace.com
DTSTAMP:20150305T143150Z
DTSTART:20150805T220000Z
DTEND:20150805T230000Z
SUMMARY:LaSalle Unit
GEO:41.327869;-89.143939
LOCATION:Eagles Lodge\, 830 Harrison Street\, Peru\, IL
END:VEVENT
END:VCALENDAR
