BEGIN:VCALENDAR
VERSION:2.0
PRODID:-//Squarespace Inc/Squarespace 6//v6//EN
BEGIN:VEVENT
UID:54a2e1f0e4b04dcb56cc7809@squarespace.com
DTSTAMP:20141230T173424Z
DTSTART:20150805T200000Z
DTEND:20150805T210000Z
SUMMARY:Clinton Unit
GEO:40.582532;-98.362029
LOCATION:Elks Lodge #785\, 1520 E. South St.\, Clinton\, IL
END:VEVENT
END:VCALENDAR
