BEGIN:VCALENDAR
VERSION:2.0
PRODID:-//Squarespace Inc/Squarespace 6//v6//EN
BEGIN:VEVENT
UID:54a2e1b6e4b098d743a6aa17@squarespace.com
DTSTAMP:20141230T173325Z
DTSTART:20150804T210000Z
DTEND:20150804T220000Z
SUMMARY:Galesburg Unit
GEO:42.047647;-93.622422
LOCATION:Galesburg Labor Temple\, 2423 Grand Ave.\, Galesburg\, IL
END:VEVENT
END:VCALENDAR
