BEGIN:VCALENDAR
VERSION:2.0
PRODID:-//Squarespace Inc/Squarespace 6//v6//EN
BEGIN:VEVENT
UID:54a2e54ee4b098d743a6bcec@squarespace.com
DTSTAMP:20141230T174843Z
DTSTART:20150813T213000Z
DTEND:20150813T223000Z
SUMMARY:Peoria Unit
GEO:44.948359;-93.25353
LOCATION:VFW 2602\, 1505 E. Lake St.\, Peoria Heights\, IL
END:VEVENT
END:VCALENDAR
