BEGIN:VCALENDAR
VERSION:2.0
PRODID:-//Squarespace Inc/Squarespace 6//v6//EN
BEGIN:VEVENT
UID:54a2e524e4b0feadc6c29db0@squarespace.com
DTSTAMP:20141230T174747Z
DTSTART:20150813T210000Z
DTEND:20150813T220000Z
SUMMARY:Decatur Unit 15
GEO:39.884277;-88.935795
LOCATION:IBEW Local 146\, 3390 N Woodford St\, Decatur\, IL\, 62526\, Unite
 d States
END:VEVENT
END:VCALENDAR
