BEGIN:VCALENDAR
VERSION:2.0
PRODID:-//Squarespace Inc/Squarespace 6//v6//EN
BEGIN:VEVENT
UID:54a2e451e4b0a7ae51d2baf2@squarespace.com
DTSTAMP:20141230T174426Z
DTSTART:20150812T233000Z
DTEND:20150813T003000Z
SUMMARY:Jacksonville Unit
GEO:35.68531;-82.005647
LOCATION:AmVets Post 100\, 210 E. Court St.\, Jacksonville\, IL
END:VEVENT
END:VCALENDAR
