BEGIN:VCALENDAR
VERSION:2.0
PRODID:-//Squarespace Inc/Squarespace 6//v6//EN
BEGIN:VEVENT
UID:54a2e410e4b073daddbb4bd5@squarespace.com
DTSTAMP:20141230T174331Z
DTSTART:20150812T200000Z
DTEND:20150812T210000Z
SUMMARY:Baldwin Unit
GEO:32.153217;-94.800893
LOCATION:The Bullpen\, 101 N. Van Buren St.\, New Athens\, IL
END:VEVENT
END:VCALENDAR
