BEGIN:VCALENDAR
VERSION:2.0
PRODID:-//Squarespace Inc/Squarespace 6//v6//EN
BEGIN:VEVENT
UID:54a2e38ae4b0dfec247efb02@squarespace.com
DTSTAMP:20141230T174120Z
DTSTART:20150811T213000Z
DTEND:20150811T223000Z
SUMMARY:Champaign Unit
GEO:29.645462;-95.227052
LOCATION:VFW Post 5520\, 609 Edgebrook Dr.\, Champaign\, IL
END:VEVENT
END:VCALENDAR
