BEGIN:VCALENDAR
VERSION:2.0
PRODID:-//Squarespace Inc/Squarespace 6//v6//EN
BEGIN:VEVENT
UID:549d8bcbe4b0a47d0ae10ab4@squarespace.com
DTSTAMP:20141226T162547Z
DTSTART:20150709T200000Z
DTEND:20150709T210000Z
SUMMARY:Decatur Unit
GEO:39.884277;-88.935795
LOCATION:IBEW Local 146\, 3390 N Woodford St\, Decatur\, IL\, 62526\, Unite
 d States
END:VEVENT
END:VCALENDAR
