BEGIN:VCALENDAR
VERSION:2.0
PRODID:-//Squarespace Inc/Squarespace 6//v6//EN
BEGIN:VEVENT
UID:549d8b98e4b045b4501930f7@squarespace.com
DTSTAMP:20141226T162430Z
DTSTART:20150708T233000Z
DTEND:20150709T003000Z
SUMMARY:Jacksonville Unit
GEO:39.734908;-90.22799
LOCATION:AmVets Post 100\, 210 E. Court St.\, Jacksonville\, IL
END:VEVENT
END:VCALENDAR
