BEGIN:VCALENDAR
VERSION:2.0
PRODID:-//Squarespace Inc/Squarespace 6//v6//EN
BEGIN:VEVENT
UID:549d8b12e4b05ce481edbbaf@squarespace.com
DTSTAMP:20141226T162232Z
DTSTART:20150707T210000Z
DTEND:20150707T220000Z
SUMMARY:Galesburg Unit
GEO:42.047647;-93.622422
LOCATION:Galesburg Labor Temple\, 2423 Grand Ave.\, Galesburg\, IL
END:VEVENT
END:VCALENDAR
