BEGIN:VCALENDAR
VERSION:2.0
PRODID:-//Squarespace Inc/Squarespace 6//v6//EN
BEGIN:VEVENT
UID:549d8a4be4b0db6a9b909c19@squarespace.com
DTSTAMP:20141226T164302Z
DTSTART:20150704T120000Z
DTEND:20150704T210000Z
SUMMARY:Independence Day
END:VEVENT
END:VCALENDAR
