BEGIN:VCALENDAR
VERSION:2.0
PRODID:-//Squarespace Inc/Squarespace 6//v6//EN
BEGIN:VEVENT
UID:549d8a21e4b03939a859b695@squarespace.com
DTSTAMP:20141226T161806Z
DTSTART:20150703T120000Z
DTEND:20150703T210000Z
SUMMARY:Office Closed
END:VEVENT
END:VCALENDAR
