BEGIN:VCALENDAR
VERSION:2.0
PRODID:-//Squarespace Inc/Squarespace 6//v6//EN
BEGIN:VEVENT
UID:549d89b2e4b00eab7b2b06b3@squarespace.com
DTSTAMP:20141226T161632Z
DTSTART:20150702T200000Z
DTEND:20150702T210000Z
SUMMARY:Wood River Unit
GEO:38.934723;-90.154596
LOCATION:IBEW Local 649\, 4051 Humbert Rd\, Alton\, IL\, 62002\, United Sta
 tes
END:VEVENT
END:VCALENDAR
