BEGIN:VCALENDAR
VERSION:2.0
PRODID:-//Squarespace Inc/Squarespace 6//v6//EN
BEGIN:VEVENT
UID:549d8cace4b0f8d712c4546b@squarespace.com
DTSTAMP:20141226T162904Z
DTSTART:20150714T213000Z
DTEND:20150714T223000Z
SUMMARY:Champaign Unit
GEO:29.645462;-95.227052
LOCATION:VFW Post 5520\, 609 Edgebrook Dr.\, Champaign\, IL
END:VEVENT
END:VCALENDAR
