BEGIN:VCALENDAR
VERSION:2.0
PRODID:-//Squarespace Inc/Squarespace 6//v6//EN
BEGIN:VEVENT
UID:549d8c7ce4b09ca9ce61febd@squarespace.com
DTSTAMP:20141226T162816Z
DTSTART:20150710T233000Z
DTEND:20150711T003000Z
SUMMARY:Construction
GEO:39.743448;-89.712231
LOCATION:IBEW Local 51 Hall\, 3171 Greenhead Dr\, Springfield\, IL\, 62711\
 , United States
END:VEVENT
END:VCALENDAR
