BEGIN:VCALENDAR
VERSION:2.0
PRODID:-//Squarespace Inc/Squarespace 6//v6//EN
BEGIN:VEVENT
UID:549d891ce4b029881ef99e1a@squarespace.com
DTSTAMP:20141226T161353Z
DTSTART:20150701T210000Z
DTEND:20150701T220000Z
SUMMARY:Lincoln Unit
GEO:40.143601;-89.34882
LOCATION:K.C. Hall\, 217 Limit St\, Lincoln\, IL\, 62656\, United States
END:VEVENT
END:VCALENDAR
