BEGIN:VCALENDAR
VERSION:2.0
PRODID:-//Squarespace Inc/Squarespace 6//v6//EN
BEGIN:VEVENT
UID:549d88e4e4b07419f38bc000@squarespace.com
DTSTAMP:20141226T161304Z
DTSTART:20150701T200000Z
DTEND:20150701T210000Z
SUMMARY:Clinton Unit
GEO:40.582532;-98.362029
LOCATION:Elks Lodge #785\, 1520 E. South St.\, Clinton\, IL
END:VEVENT
END:VCALENDAR
