BEGIN:VCALENDAR
VERSION:2.0
PRODID:-//Squarespace Inc/Squarespace 6//v6//EN
BEGIN:VEVENT
UID:549d824be4b0663b547921aa@squarespace.com
DTSTAMP:20141226T154500Z
DTSTART:20150609T213000Z
DTEND:20150609T223000Z
SUMMARY:Champaign Unit
GEO:40.130829;-88.252935
LOCATION:VFW Post 5520\, 609 Edgebrook Dr\, Champaign\, IL\, 61820\, United 
 States
END:VEVENT
END:VCALENDAR
