BEGIN:VCALENDAR
VERSION:2.0
PRODID:-//Squarespace Inc/Squarespace 6//v6//EN
BEGIN:VEVENT
UID:549d8216e4b07bee0356d733@squarespace.com
DTSTAMP:20141226T154359Z
DTSTART:20150604T213000Z
DTEND:20150604T223000Z
SUMMARY:Springfield Unit
GEO:39.743448;-89.712231
LOCATION:IBEW Local 51 Hall\, 3171 Greenhead Dr\, Springfield\, IL\, 62711\
 , United States
END:VEVENT
END:VCALENDAR
