BEGIN:VCALENDAR
VERSION:2.0
PRODID:-//Squarespace Inc/Squarespace 6//v6//EN
BEGIN:VEVENT
UID:549d815ae4b0d1a214a8e328@squarespace.com
DTSTAMP:20141226T154046Z
DTSTART:20150603T210000Z
DTEND:20150603T220000Z
SUMMARY:Lincoln Unit
GEO:40.143601;-89.34882
LOCATION:K. C. Hall\, 217 Limit St\, Lincoln\, IL\, 62656\, United States
END:VEVENT
END:VCALENDAR
