BEGIN:VCALENDAR
VERSION:2.0
PRODID:-//Squarespace Inc/Squarespace 6//v6//EN
BEGIN:VEVENT
UID:549d8191e4b07419f38bac9b@squarespace.com
DTSTAMP:20150305T143543Z
DTSTART:20150603T220000Z
DTEND:20150603T230000Z
SUMMARY:LaSalle Unit
GEO:41.327869;-89.143939
LOCATION:Eagles Lodge\, 830 Harrison Street\, Peru\, IL
END:VEVENT
END:VCALENDAR
