BEGIN:VCALENDAR
VERSION:2.0
PRODID:-//Squarespace Inc/Squarespace 6//v6//EN
BEGIN:VEVENT
UID:549d8506e4b045b450191fde@squarespace.com
DTSTAMP:20141226T155656Z
DTSTART:20150627T130000Z
DTEND:20150627T160000Z
SUMMARY:Executive Board
GEO:39.743448;-89.712231
LOCATION:IBEW Local 51 Hall\, 3171 Greenhead Dr\, Springfield\, IL\, 62711\
 , United States
END:VEVENT
END:VCALENDAR
