BEGIN:VCALENDAR
VERSION:2.0
PRODID:-//Squarespace Inc/Squarespace 6//v6//EN
BEGIN:VEVENT
UID:549d8563e4b0504d1e99adb2@squarespace.com
DTSTAMP:20141226T155752Z
DTSTART:20150621T120000Z
DTEND:20150621T210000Z
SUMMARY:Summer Begins\, Fathers Day
END:VEVENT
END:VCALENDAR
