BEGIN:VCALENDAR
VERSION:2.0
PRODID:-//Squarespace Inc/Squarespace 6//v6//EN
BEGIN:VEVENT
UID:549d8095e4b0d0fb3248d4f5@squarespace.com
DTSTAMP:20141226T153737Z
DTSTART:20150602T200000Z
DTEND:20150602T210000Z
SUMMARY:Havana Unit
GEO:41.603289;-87.518429
LOCATION:VFW\, 425 W. Ave\, Havana\, IL
END:VEVENT
END:VCALENDAR
