BEGIN:VCALENDAR
VERSION:2.0
PRODID:-//Squarespace Inc/Squarespace 6//v6//EN
BEGIN:VEVENT
UID:549d86b5e4b004237f8036a5@squarespace.com
DTSTAMP:20150305T163449Z
DTSTART:20150613T113000Z
DTEND:20150613T233000Z
SUMMARY:IBEW Local 51 Annual Golf Scholarship Outing
GEO:40.478759;-88.376152
LOCATION:Railside Golf Club\, 120 W 19th St\, Gibson City\, IL\, United Sta
 tes
END:VEVENT
END:VCALENDAR
