BEGIN:VCALENDAR
VERSION:2.0
PRODID:-//Squarespace Inc/Squarespace 6//v6//EN
BEGIN:VEVENT
UID:549d8332e4b0d2d550a492c4@squarespace.com
DTSTAMP:20141226T154842Z
DTSTART:20150611T200000Z
DTEND:20150611T210000Z
SUMMARY:Decatur Unit
GEO:39.884277;-88.935795
LOCATION:IBEW Local 146\, 3390 N Woodford St\, Decatur\, IL\, 62526\, Unite
 d States
END:VEVENT
END:VCALENDAR
