BEGIN:VCALENDAR
VERSION:2.0
PRODID:-//Squarespace Inc/Squarespace 6//v6//EN
BEGIN:VEVENT
UID:549d7511e4b045dc15476c74@squarespace.com
DTSTAMP:20141226T144830Z
DTSTART:20150506T210000Z
DTEND:20150506T220000Z
SUMMARY:Lincoln Unit
GEO:40.143601;-89.34882
LOCATION:K.C. Hall\, 217 Limit St\, Lincoln\, IL\, 62656\, United States
END:VEVENT
END:VCALENDAR
