BEGIN:VCALENDAR
VERSION:2.0
PRODID:-//Squarespace Inc/Squarespace 6//v6//EN
BEGIN:VEVENT
UID:549d754be4b0bf1b6a957e2d@squarespace.com
DTSTAMP:20150305T143617Z
DTSTART:20150506T220000Z
DTEND:20150506T230000Z
SUMMARY:LaSalle Unit
GEO:41.327869;-89.143939
LOCATION:Eagles Lodge\, 830 Harrison Street\, Peru\, IL
END:VEVENT
END:VCALENDAR
